BEGIN:VCALENDAR
VERSION:2.0
PRODID:-//St.Johns Public School CBSE-Nagpur - ECPv6.15.20//NONSGML v1.0//EN
CALSCALE:GREGORIAN
METHOD:PUBLISH
X-WR-CALNAME:St.Johns Public School CBSE-Nagpur
X-ORIGINAL-URL:https://stjohnspublicschool.in
X-WR-CALDESC:Events for St.Johns Public School CBSE-Nagpur
REFRESH-INTERVAL;VALUE=DURATION:PT1H
X-Robots-Tag:noindex
X-PUBLISHED-TTL:PT1H
BEGIN:VTIMEZONE
TZID:UTC
BEGIN:STANDARD
TZOFFSETFROM:+0000
TZOFFSETTO:+0000
TZNAME:UTC
DTSTART:20250101T000000
END:STANDARD
END:VTIMEZONE
BEGIN:VEVENT
DTSTART;VALUE=DATE:20260427
DTEND;VALUE=DATE:20260428
DTSTAMP:20260420T164601
CREATED:20260420T055121Z
LAST-MODIFIED:20260420T055121Z
UID:930-1777248000-1777334399@stjohnspublicschool.in
SUMMARY:Essay Writing Competition
DESCRIPTION:
URL:https://stjohnspublicschool.in/event/essay-writing-competition/
CATEGORIES:Activities
END:VEVENT
BEGIN:VEVENT
DTSTART;VALUE=DATE:20260430
DTEND;VALUE=DATE:20260501
DTSTAMP:20260420T164601
CREATED:20260420T055216Z
LAST-MODIFIED:20260420T055216Z
UID:932-1777507200-1777593599@stjohnspublicschool.in
SUMMARY:Maharashtra Day
DESCRIPTION:
URL:https://stjohnspublicschool.in/event/maharashtra-day/
CATEGORIES:Activities
END:VEVENT
END:VCALENDAR