BEGIN:VCALENDAR
VERSION:2.0
PRODID:-//St.Johns Public School CBSE-Nagpur - ECPv6.15.20//NONSGML v1.0//EN
CALSCALE:GREGORIAN
METHOD:PUBLISH
X-WR-CALNAME:St.Johns Public School CBSE-Nagpur
X-ORIGINAL-URL:https://stjohnspublicschool.in
X-WR-CALDESC:Events for St.Johns Public School CBSE-Nagpur
REFRESH-INTERVAL;VALUE=DURATION:PT1H
X-Robots-Tag:noindex
X-PUBLISHED-TTL:PT1H
BEGIN:VTIMEZONE
TZID:UTC
BEGIN:STANDARD
TZOFFSETFROM:+0000
TZOFFSETTO:+0000
TZNAME:UTC
DTSTART:20250101T000000
END:STANDARD
END:VTIMEZONE
BEGIN:VEVENT
DTSTART;VALUE=DATE:20260427
DTEND;VALUE=DATE:20260428
DTSTAMP:20260421T001201
CREATED:20260420T055121Z
LAST-MODIFIED:20260420T055121Z
UID:930-1777248000-1777334399@stjohnspublicschool.in
SUMMARY:Essay Writing Competition
DESCRIPTION:
URL:https://stjohnspublicschool.in/event/essay-writing-competition/
CATEGORIES:Activities
END:VEVENT
BEGIN:VEVENT
DTSTART;VALUE=DATE:20260418
DTEND;VALUE=DATE:20260419
DTSTAMP:20260421T001201
CREATED:20260420T055047Z
LAST-MODIFIED:20260420T055047Z
UID:928-1776470400-1776556799@stjohnspublicschool.in
SUMMARY:Investiture Ceremony
DESCRIPTION:
URL:https://stjohnspublicschool.in/event/investiture-ceremony/
END:VEVENT
BEGIN:VEVENT
DTSTART;VALUE=DATE:20260415
DTEND;VALUE=DATE:20260416
DTSTAMP:20260421T001201
CREATED:20260420T055005Z
LAST-MODIFIED:20260420T055005Z
UID:926-1776211200-1776297599@stjohnspublicschool.in
SUMMARY:Penmanship Hindi
DESCRIPTION:
URL:https://stjohnspublicschool.in/event/penmanship-hindi/
CATEGORIES:Activities
END:VEVENT
BEGIN:VEVENT
DTSTART;VALUE=DATE:20260411
DTEND;VALUE=DATE:20260412
DTSTAMP:20260421T001201
CREATED:20260420T054308Z
LAST-MODIFIED:20260420T054308Z
UID:921-1775865600-1775951999@stjohnspublicschool.in
SUMMARY:Penmanship English
DESCRIPTION:
URL:https://stjohnspublicschool.in/event/penmanship-english/
CATEGORIES:Activities
END:VEVENT
BEGIN:VEVENT
DTSTART;VALUE=DATE:20260401
DTEND;VALUE=DATE:20260402
DTSTAMP:20260421T001201
CREATED:20260411T072907Z
LAST-MODIFIED:20260411T072907Z
UID:844-1775001600-1775087999@stjohnspublicschool.in
SUMMARY:Reopening Day
DESCRIPTION:
URL:https://stjohnspublicschool.in/event/reopening-day/
END:VEVENT
END:VCALENDAR